BEGIN:VCALENDAR
VERSION:2.0
PRODID:-//MSP Italia - ECPv4.6.8//NONSGML v1.0//EN
CALSCALE:GREGORIAN
METHOD:PUBLISH
X-WR-CALNAME:MSP Italia
X-ORIGINAL-URL:https://mspitalia.com
X-WR-CALDESC:Events for MSP Italia
BEGIN:VEVENT
DTSTART;TZID=UTC+0:20150507T093000
DTEND;TZID=UTC+0:20150507T183000
DTSTAMP:20260424T173210
CREATED:20161121T110752Z
LAST-MODIFIED:20170111T095858Z
UID:314-1430991000-1431023400@mspitalia.com
SUMMARY:1° Edizione - La gestione MSP per crescere con successo - Firenze
DESCRIPTION:CoreTech\, ha organizzato un Corso per Rivenditori e System Integrator disponibile a Roma il giorno 8 Maggio 2015 dalle ore 9.45 alle ore 18.00 dedicato a tutti i Titolari\, Tecnici e Commerciali a soli 280\,00 Euro! \nÈ una giornata di formazione tecnico/commerciale nella quale verranno fornite informazioni su Prodotti e Soluzioni strategiche per gestire il cambiamento in atto nel business del supporto tecnico alle Piccole e Medie imprese. \nBrevi ma intense sessioni tecniche per mostrare soluzioni efficaci e semplici da gestire. Fondamentali spunti per rinnovare il proprio modello di business ed incrementare i propri margini\, garantendosi lavoro per i prossimi anni. \nApprofitta delle occasioni esclusive dedicate ai partecipanti e avrai diritto a servizi esclusivi e sconti per più di 1.600 €! \nIl costo dell’evento sarà ampiamente ripagato anche da una serie di vantaggi (del valore di oltre 1600 euro) dedicati ai partecipanti e che potrete scoprire durante la giornata. Inoltre chi arriva da città limitrofe potrà usufruire di uno sconto aggiuntivo. \nPartecipare vuol dire credere nelle proprie potenzialità\, rinnovare il proprio modello di Business e acquisire numerosi vantaggi! \nUn evento pieno di sorprese. Scopri cos’è incluso: \n\nSconto “viaggiatore”\nFai oltre 30Km? per te uno sconto di 30\,00€\nPranzo e Coffee Break\n3 piacevoli pause incluse\nKit di benvenuto\nOmaggi esclusivi di benvenuto\nPromozioni e Sconti\nRiservate ai partecipanti\n\nDi seguito i programma completo: \nBenvenuto \nAnalisi di mercato e modello di business MSP (Managed Service Provider). \n\nServizi richiesti dalle Small & Medium Business Company.\nModello di business MSP per le aziende che forniscono supporto IT: perché aprire gli orizzonti e come incrementare il proprio business aumentando i profitti.\nPresentazione di un contratto MSP di esempio.\nImportanza di fare rete di imprese per ampliare il proprio business e diventare più competitivi.\n\nCoffee Break \nEntrare nel business del Cloud a piccoli passi \n\nCloud\, l’offerta presente sul mercato. Come valutarla\, come misurarla come venderla\nCreare la propria offerta Cloud.\nDiventare Provider per i propri clienti. Quanto costa\, come si fa e a cosa serve.\n\nPanoramica Prodotti\, Soluzioni e Servizi \n\nPanoramica su Kerio Operator\nInterfacciamento con linee analogiche e digitali.\n\nPranzo \nPanoramica Prodotti\, Soluzioni e Servizi \n\nMail Server e Posta elettronica\nKerio Connect \, un sistema di posta alternativo ad Exchange.\n\nPanoramica Prodotti\, Soluzioni e Servizi \n\nArchiviazione della posta elettronica Mailstore presso il cliente o come Servizio: per Avvocati\, Commercialisti\, Notai\, Studi associati\, …\n\nPanoramica Prodotti\, Soluzioni e Servizi \n\nBackup sicuro e gestione centralizzata Replica delle macchine virtuali con VMexplorer\n\nCoffee Break \nSygma \n\nCome gestire il cambiamento grazie a SYGMA\nMigliora i processi\, velocizza il lavoro\, aumenta produttività\, risparmia tempo\n\nPanoramica Prodotti\, Soluzioni e Servizi – Scambio Dati via internet \n\nSoluzioni di scambio dati sicuro con Serv-U\, CompleteFTP e OwnCloud\n\nPanoramica Prodotti\, Soluzioni e Servizi – Soluzione firewall a prova di disaster recovery \n\nKerio Control e modalità di utilizzo\n\n
URL:https://mspitalia.com/index.php/event/la-gestione-msp-per-crescere-con-successo-2/
LOCATION:Via Maso Finiguerra\, 9\, Ambrogiana\, Firenze\, 50056\, Italia
CATEGORIES:MSP Corso
ATTACH;FMTTYPE=image/jpeg:https://mspitalia.com/wp-content/uploads/2016/11/download-1.jpg
ORGANIZER;CN="CoreTech":MAILTO:commerciale@coretech.it 
END:VEVENT
END:VCALENDAR