BEGIN:VCALENDAR
VERSION:2.0
PRODID:-//MSP Italia - ECPv4.6.8//NONSGML v1.0//EN
CALSCALE:GREGORIAN
METHOD:PUBLISH
X-WR-CALNAME:MSP Italia
X-ORIGINAL-URL:https://mspitalia.com
X-WR-CALDESC:Events for MSP Italia
BEGIN:VEVENT
DTSTART;TZID=UTC+0:20150917T093000
DTEND;TZID=UTC+0:20150917T183000
DTSTAMP:20260424T175037
CREATED:20161121T082040Z
LAST-MODIFIED:20170111T095502Z
UID:287-1442482200-1442514600@mspitalia.com
SUMMARY:3° Edizione - La Gestione Managed Service Provider (MSP) per crescere con Successo - Milano
DESCRIPTION:Il corso si rivolge ai Titolari\, ai Tecnici e ai Commerciali: a partire da un’analisi dell’attuale panorama e dalla spiegazione del modello MSP\, illustreremo nel dettaglio quali strumenti sono necessari per la gestione centralizzata del cliente e come si possono applicare a livello tecnico o commerciale a seconda del contesto di utilizzo. A supporto del corso\, forniremo inoltre materiali ed articoli indispensabili per una corretta valutazione dell’odierno scenario economico. \nRelatori: Roberto Beneduci\, Alessandro Davanzo\, Massimo Nasini \nProgramma: \n1. Analisi di mercato e modello di business MSP (Managed Service Provider) \n\nServizi richiesti dalle Small & Medium Business Company.\nModello di business MSP per le aziende che forniscono supporto IT.\nPresentazione di un contratto MSP di esempio.\nCreazione di una rete di imprese per la proattività del proprio business.\n\n2. Cloud: affidarsi al mercato o diventare provider? \n\nCloud\, l’offerta presente sul mercato. Come valutarla e come misurarla.\nCreare la propria offerta Cloud. Diventare Provider per i propri clienti.\n\n3. SYGMA: lo strumento per i Managed Service Provider \n\nPerché occorre centralizzare\, snellire e velocizzare il lavoro.\nPanoramica e presentazione di Sygma.\n\n4. Gestione della Posta Elettronica \n\nMail Server e Posta elettronica. Perché è necessario gestirli.\nSistemi di posta alternativi ad Exchange. Vantaggi ed esempi pratici.\nArchiviazione della Posta elettronica. Vantaggi ed esempi pratici.\n\n5. Gestione del Centralino Telefonico \n\nCentralino VoIP. Vantaggi ed esempi pratici.\nInterfacciamento con linee analogiche e digitali.\n\n6. Piani di sicurezza e Disaster Recovery \n\nBackup sicuro e gestione centralizzata. Perché scegliere il backup offsite.\nReplica delle macchine virtuali con VMexplorer. Vantaggi ed esempi pratici.\nFirewall a prova di disaster recovery\, Kerio Control. Modalità di utilizzo.\n\n7. Scambio Dati via internet \n\nSoluzioni di scambio dati sicuro.\nServ-U\, CompleteFTP e OwnCloud.\nVantaggi ed esempi pratici.\n\n
URL:https://mspitalia.com/index.php/event/la-gestione-managed-service-provider-msp-per-crescere-con-successo/
LOCATION:Viale Ortles\, 13\, Milano\, MI\, 20139\, Italia
CATEGORIES:MSP Corso
ATTACH;FMTTYPE=image/jpeg:https://mspitalia.com/wp-content/uploads/2016/11/c8729c_5b415dab23de4b98bc3f05eede2f4664-mv2.jpg
ORGANIZER;CN="CoreTech":MAILTO:commerciale@coretech.it 
END:VEVENT
END:VCALENDAR